BEGIN:VCALENDAR
VERSION:2.0
PRODID:icalendar-ruby
CALSCALE:GREGORIAN
METHOD:PUBLISH
BEGIN:VEVENT
DTSTAMP:20260425T154242Z
UID:6-492971@tabernacleof.tithelysetup5.com
DTSTART:20260823T160000Z
DTEND:20260823T183000Z
CLASS:PUBLIC
CREATED:20260425T085607
DESCRIPTION:Prayer time\, Bible Studies and Church Service
LAST-MODIFIED:20260425T085607
LOCATION:church Auditorium
SUMMARY:Sunday Service
URL;VALUE=URI:https://www.tofgministries.org/events/sunday-service/2026-08-
 23
ATTACH;FILENAME=3-%281%29.jpeg;FMTTYPE=image/jpeg:https://dq5pwpg1q8ru0.clo
 udfront.net/2024/11/18/03/54/20/193aee1b-fdfe-4529-8635-34eb5391aedc/3-%25
 281%2529.jpeg
END:VEVENT
END:VCALENDAR
